BEGIN:VCALENDAR
VERSION:2.0
PRODID:-//The Coaching Centre - ECPv5.3.2.1//NONSGML v1.0//EN
CALSCALE:GREGORIAN
METHOD:PUBLISH
X-WR-CALNAME:The Coaching Centre
X-ORIGINAL-URL:https://thecoachingcentre.com.au
X-WR-CALDESC:Events for The Coaching Centre
BEGIN:VTIMEZONE
TZID:Australia/Sydney
BEGIN:STANDARD
TZOFFSETFROM:+1100
TZOFFSETTO:+1000
TZNAME:AEST
DTSTART:20210403T160000
END:STANDARD
BEGIN:DAYLIGHT
TZOFFSETFROM:+1000
TZOFFSETTO:+1100
TZNAME:AEDT
DTSTART:20211002T160000
END:DAYLIGHT
END:VTIMEZONE
BEGIN:VEVENT
DTSTART;TZID=Australia/Sydney:20210305T090000
DTEND;TZID=Australia/Sydney:20210307T170000
DTSTAMP:20210301T043201
CREATED:20200327T022055Z
LAST-MODIFIED:20201203T071838Z
UID:3741-1614934800-1615136400@thecoachingcentre.com.au
SUMMARY:Unleashing Leadership
DESCRIPTION:Unleashing Leadership is the call for Leadership: We need good leaders—leaders who care about people. Leaders who lead the highest and best in people. And Leaders who are enlightened enough to be effective and transformative in dealing with real live people. Leaders who can unleash the highest and best in people for adapting to the changes that are required to be effective and productive. \n\nAre you that kind of a leader?\nWould you like to be?\n\nWhat is Unleashing Leadership?\nSelf-Actualizing Leaders: Then\, as an enlightened leader\, we can develop a whole new kind of leader— self-actualizing leaders. We need men and women who are themselves growing\, creative\, caring\, engaged\, effective\, and passionate about a meaningful vision. The day of the authoritarian command-and-control leader is over. Today we need leaders who can build organizations (groups\, communities\, firms\, companies\, etc.) which fit with the highest in human nature that brings out the very best of people.
URL:https://thecoachingcentre.com.au/event/unleashing-leadership/
LOCATION:The Coaching Centre\, Office 15\, 212 Anson St Plaza\, Orange\, NSW\, 2800\, Australia
CATEGORIES:Leadership
ATTACH;FMTTYPE=image/jpeg:https://thecoachingcentre.com.au/wp-content/uploads/2020/03/business-02-1.jpg
ORGANIZER;CN="The%20Coaching%20Centre":MAILTO:info@thecoachingcentre.com.au
END:VEVENT
END:VCALENDAR