BEGIN:VCALENDAR
VERSION:2.0
PRODID:-//The Coaching Centre - ECPv6.15.20//NONSGML v1.0//EN
CALSCALE:GREGORIAN
METHOD:PUBLISH
X-ORIGINAL-URL:https://thecoachingcentre.com.au
X-WR-CALDESC:Events for The Coaching Centre
REFRESH-INTERVAL;VALUE=DURATION:PT1H
X-Robots-Tag:noindex
X-PUBLISHED-TTL:PT1H
BEGIN:VTIMEZONE
TZID:Australia/Sydney
BEGIN:STANDARD
TZOFFSETFROM:+1100
TZOFFSETTO:+1000
TZNAME:AEST
DTSTART:20240406T160000
END:STANDARD
BEGIN:DAYLIGHT
TZOFFSETFROM:+1000
TZOFFSETTO:+1100
TZNAME:AEDT
DTSTART:20241005T160000
END:DAYLIGHT
BEGIN:STANDARD
TZOFFSETFROM:+1100
TZOFFSETTO:+1000
TZNAME:AEST
DTSTART:20250405T160000
END:STANDARD
BEGIN:DAYLIGHT
TZOFFSETFROM:+1000
TZOFFSETTO:+1100
TZNAME:AEDT
DTSTART:20251004T160000
END:DAYLIGHT
BEGIN:STANDARD
TZOFFSETFROM:+1100
TZOFFSETTO:+1000
TZNAME:AEST
DTSTART:20260404T160000
END:STANDARD
BEGIN:DAYLIGHT
TZOFFSETFROM:+1000
TZOFFSETTO:+1100
TZNAME:AEDT
DTSTART:20261003T160000
END:DAYLIGHT
END:VTIMEZONE
BEGIN:VEVENT
DTSTART;TZID=Australia/Sydney:20250418T090000
DTEND;TZID=Australia/Sydney:20250420T170000
DTSTAMP:20260423T203900
CREATED:20230401T214704Z
LAST-MODIFIED:20241104T214404Z
UID:44736-1744966800-1745168400@thecoachingcentre.com.au
SUMMARY:Creative Solutions
DESCRIPTION:Solutions—we all want them! We want solutions for making our dreams real\, for making\nour businesses success in ways far beyond our dreams. We want solutions for our health and\nfitness\, for our relationships and loved ones\, for our well-being and happiness.\nSo in this workshop we focus on the solutions to our problems to access and actualize our dreams by means of unleashing our potentials/“>. To do this is to self-actualize as individuals and as organizations. Furthermore\, to do that is to become creative within ourselves and then actualize or innovate our creative hopes\, dreams\, and potentials into real life. \nGraduate from Creative Solutions with benefits\n\nLive fully and authentically\, without underestimating your potential or compromising your values\nStay true to yourself and act with integrity\, living in harmony with your beliefs and principles.\nExperience the natural passion and motivation that comes from a well-lived life.\nOvercome boredom\, frustration\, and depression by pursuing your vision and mission in life\nSeek out everyday “peak experiences” that bring you closer to your goals.\nDevelop problem-solving skills to quickly and efficiently address challenges that arise\nTake control of your life and resist the influence of cultural norms or external pressures\nTo feel in charge of your own self\, life and not controlled by your culture\nLive with emotional intelligence\, fully embracing the rich and varied human experience.\n\nDelivered over 12 weeks in creativity for Creative Solutions. Designed for being inwardly creative in who we are—we access and develop our innate creativity which means unleashing and actualizing our inner creativity. Actively using our creativity for our situations\, potentials\, and problems and becoming superb problem-solvers. So\, it is then actualizing our creative ideas into our person and into the real world through embodiment and innovation.\nUnleashing creative solutions — we engage in four conversations that eventually can become one conversation. \n\nOutcome Conversation – Clear goal to direct attention – Aspiration\, Inspiration\nProblem Conversation — Precise definition – Discipline description\nSolution Conversation – Resources to reach the outcome — Ideas for a change\nInnovation Conversation — For the implementation plan — Practical steps\n\nWelcome to the creative adventure of these evenings to unleash and actualize your creative potentials.
URL:https://thecoachingcentre.com.au/event/creative-solutions/
LOCATION:The Coaching Centre\, Office 15\, 212 Anson St Plaza\, Orange\, NSW\, 2800\, Australia
CATEGORIES:Meta-State Training,Meta-States,Self Actualization,Unleashing Series
ATTACH;FMTTYPE=image/jpeg:https://thecoachingcentre.com.au/wp-content/uploads/2023/04/AdobeStock_279504965-2-scaled.jpeg
ORGANIZER;CN="The Coaching Centre":MAILTO:info@thecoachingcentre.com.au
END:VEVENT
END:VCALENDAR