BEGIN:VCALENDAR
VERSION:2.0
PRODID:-//The Coaching Centre - ECPv6.15.20//NONSGML v1.0//EN
CALSCALE:GREGORIAN
METHOD:PUBLISH
X-ORIGINAL-URL:https://thecoachingcentre.com.au
X-WR-CALDESC:Events for The Coaching Centre
REFRESH-INTERVAL;VALUE=DURATION:PT1H
X-Robots-Tag:noindex
X-PUBLISHED-TTL:PT1H
BEGIN:VTIMEZONE
TZID:Australia/Sydney
BEGIN:STANDARD
TZOFFSETFROM:+1100
TZOFFSETTO:+1000
TZNAME:AEST
DTSTART:20240406T160000
END:STANDARD
BEGIN:DAYLIGHT
TZOFFSETFROM:+1000
TZOFFSETTO:+1100
TZNAME:AEDT
DTSTART:20241005T160000
END:DAYLIGHT
BEGIN:STANDARD
TZOFFSETFROM:+1100
TZOFFSETTO:+1000
TZNAME:AEST
DTSTART:20250405T160000
END:STANDARD
BEGIN:DAYLIGHT
TZOFFSETFROM:+1000
TZOFFSETTO:+1100
TZNAME:AEDT
DTSTART:20251004T160000
END:DAYLIGHT
BEGIN:STANDARD
TZOFFSETFROM:+1100
TZOFFSETTO:+1000
TZNAME:AEST
DTSTART:20260404T160000
END:STANDARD
BEGIN:DAYLIGHT
TZOFFSETFROM:+1000
TZOFFSETTO:+1100
TZNAME:AEDT
DTSTART:20261003T160000
END:DAYLIGHT
END:VTIMEZONE
BEGIN:VEVENT
DTSTART;TZID=Australia/Sydney:20250523T090000
DTEND;TZID=Australia/Sydney:20250525T170000
DTSTAMP:20260423T105628
CREATED:20230923T112211Z
LAST-MODIFIED:20250921T051050Z
UID:45159-1747990800-1748192400@thecoachingcentre.com.au
SUMMARY:Unleashing Leadership
DESCRIPTION:Unleashing Leadership\nThis subject considers Self-Actualizing Leaders: Then\, as an enlightened leader\, we can develop a whole new kind of leader— self-actualizing leaders. We need men and women who are themselves growing\, creative\, caring\, engaged\, effective\, and passionate about a meaningful vision. The day of the authoritarian command-and-control leader is over. Today we need leaders who can build organizations (groups\, communities\, firms\, companies\, etc.) which fit with the highest in human nature that brings out the very best of people. \nLeaders define reality\, pioneer a new future\, and create a creative tension of a vision and possibility for a better future. \nLeaders influence people by unleashing their powers and potentials to be a part of something bigger than themselves \nAvailability\nFriday – Sunday \nFace to face \nThe Coaching Centre \nLearning Outcomes\nUpon successful completion of this subject\, students will: \n\ndemonstrate an understanding of identifying self-actualization and what it means to be a self-actualizing leader\ndemonstrate an understanding of coaching to unleash your potentials as a leader\, to develop the core competencies of your kind and level of leadership\ndemonstrate a critical understanding of how specifying the mechanisms of change leadership— the processes by which leaders can actually lead the minds and hearts of people in changing business and culture\ndemonstrate an understanding of the paradigm shift that leads to Self-Actualizing Leaders\ndemonstrate an ability to evaluate your best Leadership Matrix\n\nSyllabus\nThis subject will cover the following topics: \n\nIntroduction: What is leadership as a self-actualising leader\nCall for leadership\nDomain of leadership\nLeadership meanings\nLevels of leadership\nLeadership intentions\nNew leadership model\nLeadership psychology\nEnlightened leadership\nLeadership states\nLeadership powers\nPersonal power\nRelational skills\nLeadership identity\nTimely leadership\nSelf-Actualisation Characteristics\nSelf-Actualisation engagement\nCore competencies executive leaders\nCore competencies managerial leaders\nThe pyramid as a business model\nLeading a Self-Actualising company\n\nUnleashing Leadership is the call for Leadership: We need good leaders—leaders who care about people. Leaders who lead the highest and best in people. And Leaders who are enlightened enough to be effective and transformative in dealing with real live people. Leaders who can unleash the highest and best in people for adapting to the changes that are required to be effective and productive. \n\nAre you that kind of a leader?\nWould you like to be?\n\nRegistrations are closed for this event
URL:https://thecoachingcentre.com.au/event/unleashing-leadership/
LOCATION:The Coaching Centre\, Office 15\, 212 Anson St Plaza\, Orange\, NSW\, 2800\, Australia
CATEGORIES:Business,Self Actualization
ATTACH;FMTTYPE=image/jpeg:https://thecoachingcentre.com.au/wp-content/uploads/2022/10/young-adults-listening-to-a-speaker.jpg
ORGANIZER;CN="The Coaching Centre":MAILTO:info@thecoachingcentre.com.au
END:VEVENT
END:VCALENDAR