BEGIN:VCALENDAR
VERSION:2.0
PRODID:-//The Coaching Centre - ECPv6.15.20//NONSGML v1.0//EN
CALSCALE:GREGORIAN
METHOD:PUBLISH
X-WR-CALNAME:The Coaching Centre
X-ORIGINAL-URL:https://thecoachingcentre.com.au
X-WR-CALDESC:Events for The Coaching Centre
REFRESH-INTERVAL;VALUE=DURATION:PT1H
X-Robots-Tag:noindex
X-PUBLISHED-TTL:PT1H
BEGIN:VTIMEZONE
TZID:Australia/Sydney
BEGIN:STANDARD
TZOFFSETFROM:+1100
TZOFFSETTO:+1000
TZNAME:AEST
DTSTART:20240406T160000
END:STANDARD
BEGIN:DAYLIGHT
TZOFFSETFROM:+1000
TZOFFSETTO:+1100
TZNAME:AEDT
DTSTART:20241005T160000
END:DAYLIGHT
BEGIN:STANDARD
TZOFFSETFROM:+1100
TZOFFSETTO:+1000
TZNAME:AEST
DTSTART:20250405T160000
END:STANDARD
BEGIN:DAYLIGHT
TZOFFSETFROM:+1000
TZOFFSETTO:+1100
TZNAME:AEDT
DTSTART:20251004T160000
END:DAYLIGHT
BEGIN:STANDARD
TZOFFSETFROM:+1100
TZOFFSETTO:+1000
TZNAME:AEST
DTSTART:20260404T160000
END:STANDARD
BEGIN:DAYLIGHT
TZOFFSETFROM:+1000
TZOFFSETTO:+1100
TZNAME:AEDT
DTSTART:20261003T160000
END:DAYLIGHT
END:VTIMEZONE
BEGIN:VEVENT
DTSTART;TZID=Australia/Sydney:20250321T090000
DTEND;TZID=Australia/Sydney:20250323T170000
DTSTAMP:20260423T141545
CREATED:20230122T054338Z
LAST-MODIFIED:20241104T214257Z
UID:44630-1742547600-1742749200@thecoachingcentre.com.au
SUMMARY:Unleashing Potentials
DESCRIPTION:  \n  \n  \n  \n\n \n\nUnleashing Potentials\nThis program is the experience of self-actualisation as a process in three stages: the Construct\,the Crucible\, and the Zone. Actualizing yourself and creativity are one and the same thing.Experience the creativity of the Construct as you create rich and abundant meanings. Then in the Crucible\, de-create (de-construct) and re-create new meanings for new transformations. Finally\, in the Zone create a fabulous synergy of meaning-and-performance so you can perform at your highest and best. \nAvailability\nFace to face  \nOrange NSW\, The Coaching Centre \nLearning Outcomes\nUpon successful completion of this subject\, students should: \n\nbe able to demonstrate an understanding of models that empower the unleashing of potentials\nbe able to demonstrate an understanding of what a crucible is and how to build your self-actualizing Crucible.\nbe able to demonstrate a critical understanding of how to Identify your Zone of Self-Actualization\nbe able to demonstrate an understanding of how to Actualize your real self for living authentically\nbe able to demonstrate an ability to evaluate and reframe “emotions” so they support your self-actualizing transformations\nSuper-charge your attitude for peak performances\n\nSyllabus\nThis subject will cover the following topics: \n\nIntroduction: What is Self-Actualisation\nMeasure self-actualizing degrees\nModels that empower the unleashing of potentials\nDiagnose and profile self-actualization\nSelf – Actualization Quadrants\nConstructing Meaning\nLevels of Meaning-Making\nMeaning Scale\nMeaningful core of respect and Identity\nSelf-actualizing Creator\nCreate and enter the Crucible\nThe role of meaning in the hierarchy\nSelf-actualizing Crucible.\nTransformative experiences\nEnter the Crucible with your drives\, needs\, emotions\, powers\, choices.\nReframe “emotions” to support self-actualizing transformations.\nTranscending self\nSelf-actualizing transformation for others\nZone of Self-Actualization.\nSynergize competencies\, and your performances.\nActualize and embody high meanings\, identity\, and values.\nStep in and out of that Zone\nCapitalize on problems\nFeedback pro to accelerate self- actualization.\nLiving authentically\nSuper-charge your attitude for peak performance\n\nUnleashing Potentials\nThe most cutting-edge development and models in Self-Actualisation Psychology today is being delivered with specific focus on modeling the synergy of Meaning and Performance and has launched through a series of trainings in self-actualisation only at The Coaching Centre.
URL:https://thecoachingcentre.com.au/event/unleashing-potentials-2/
LOCATION:The Coaching Centre\, Office 15\, 212 Anson St Plaza\, Orange\, NSW\, 2800\, Australia
CATEGORIES:Potentials,Self Actualization,Unleashing Series
ORGANIZER;CN="The Coaching Centre":MAILTO:info@thecoachingcentre.com.au
END:VEVENT
END:VCALENDAR